Workbook

Sheet DMHH
A1: Bảng định mức chi phí kinh doanh năm 2023
A4: MÃ NV | B4: NGHIỆP VỤ BH | C4: HOA HỒNG | D4: CHI QUẢN LÝ & HTĐL | E4: CPKD TRỰC TIẾP TRƯỚC VAT | F4: CỘNG TỔNG ĐM | G4: THUẾ VAT
B5: TỔNG CỘNG
B6: Bảo hiểm Tàu biển
A7: 010101 | B7: Bảo Hiểm P&I Tàu Biển
A8: 010102 | B8: Bảo Hiểm Thân Tàu Biển | C8: 0.05 | F8: =+C8+D8+E8 -> 0.05 | G8: 0.1
B9: Bảo hiểm Tàu sông | F9: =+C9+D9+E9 -> 0
A10: 010201 | B10: Bảo Hiểm TNDS Chủ Tàu Sông | C10: 0.15 | F10: =+C10+D10+E10 -> 0.15 | G10: 0.1
A11: 010202 | B11: Bảo Hiểm Trách Nhiệm Lai Dắt | C11: 0.15 | F11: =+C11+D11+E11 -> 0.15 | G11: 0.1
A12: 010203 | B12: Bảo Hiểm Thân Tàu Sông | C12: 0.15 | F12: =+C12+D12+E12 -> 0.15 | G12: 0.1
B13: Bảo hiểm tàu cá | F13: =+C13+D13+E13 -> 0
A14: 010301 | B14: Bảo hiểm Trách nhiệm dân sự tàu cá | F14: =+C14+D14+E14 -> 0 | G14: 0
A15: 010302 | B15: Bảo hiểm thân tàu cá | F15: =+C15+D15+E15 -> 0 | G15: 0
A16: 010304 | B16: Bảo hiểm Ngư cư | F16: =+C16+D16+E16 -> 0 | G16: 0
B17: Bảo hiểm tàu pha sông biển | F17: =+C17+D17+E17 -> 0
A18: 010401 | B18: Bảo Hiểm TNDS Chủ Tàu Biển Việt Nam | C18: 0.05 | F18: =+C18+D18+E18 -> 0.05 | G18: 0.1
A19: 010402 | B19: Bảo Hiểm Trách Nhiệm Lai Dắt | C19: 0.15 | F19: =+C19+D19+E19 -> 0.15 | G19: 0.1
A20: 010403 | B20: Bảo Hiểm Thân Tàu Biển Việt Nam | C20: 0.05 | F20: =+C20+D20+E20 -> 0.05 | G20: 0.1
A21: 010500 | B21: Bảo hiểm đóng tàu | C21: 0.05 | F21: =+C21+D21+E21 -> 0.05 | G21: 0.1
B22: Bảo hiểm hàng hóa | F22: =+C22+D22+E22 -> 0
A23: 020101 | B23: Bảo Hiểm Hàng Xuất | C23: 0.1 | F23: =+C23+D23+E23 -> 0.1 | G23: 0.1
A24: 020102 | B24: Bảo Hiểm Hàng Nhập | C24: 0.1 | F24: =+C24+D24+E24 -> 0.1 | G24: 0
A25: 020103 | B25: Bảo Hiểm Hàng Hóa Vận Chuyển Nội Địa | C25: 0.1 | F25: =+C25+D25+E25 -> 0.1 | G25: 0.1
A26: 020102.NC | B26: Hàng Nhập nguyên chuyến | C26: 0.1 | F26: =+C26+D26+E26 -> 0.1 | G26: 0.1
B27: Bảo Hiểm Hỏa Hoạn Và Các Rủi Ro Đặc Biệt | F27: =+C27+D27+E27 -> 0
A28: 030101.12 | B28: Rủi ro loại 1, 2 | C28: 0.1 | F28: =+C28+D28+E28 -> 0.1 | G28: 0.1
A29: 030101 | B29: Rủi ro loại 3 | C29: 0.1 | F29: =+C29+D29+E29 -> 0.1 | G29: 0.1
A30: 030101.4 | B30: Rủi ro loại 4 | C30: 0.1 | F30: =+C30+D30+E30 -> 0.1 | G30: 0.1
B31: Bảo Hiểm Gián Đoạn Kinh Doanh Sau Cháy | F31: =+C31+D31+E31 -> 0
A32: 030102.12 | B32: Rủi ro loại 1, 2 | C32: 0.1 | F32: =+C32+D32+E32 -> 0.1 | G32: 0.1
A33: 030102 | B33: Rủi ro loại 3 | C33: 0.1 | F33: =+C33+D33+E33 -> 0.1 | G33: 0.1
A34: 030102.4 | B34: Rủi ro loại 4 | C34: 0.1 | F34: =+C34+D34+E34 -> 0.1 | G34: 0.1
B35: Bảo Hiểm Cháy Nổ Bắt Buộc | F35: =+C35+D35+E35 -> 0
A36: 030103.12 | B36: Rủi ro loại 1, 2 | C36: 0.05 | F36: =+C36+D36+E36 -> 0.05 | G36: 0.1
A37: 030103 | B37: Rủi ro loại 3 | C37: 0.05 | F37: =+C37+D37+E37 -> 0.05 | G37: 0.1
A38: 030103.4 | B38: Rủi ro loại 4 | C38: 0.05 | F38: =+C38+D38+E38 -> 0.05 | G38: 0.1
B39: Bảo Hiểm Mọi Rủi Ro Tài Sản | F39: =+C39+D39+E39 -> 0
A40: 030201.12 | B40: Rủi ro loại 1, 2 | C40: 0.05 | F40: =+C40+D40+E40 -> 0.05 | G40: 0.1
A41: 030201 | B41: Rủi ro loại 3 | C41: 0.05 | F41: =+C41+D41+E41 -> 0.05 | G41: 0.1
A42: 030201.4 | B42: Rủi ro loại 4 | C42: 0.05 | F42: =+C42+D42+E42 -> 0.05 | G42: 0.1
A43: 030202 | B43: Bảo Hiểm Nhà Tư Nhân | C43: 0.1 | F43: =+C43+D43+E43 -> 0.1 | G43: 0.1
A44: 030203 | B44: Bảo Hiểm Hỗn Hợp Văn Phòng | C44: 0.05 | F44: =+C44+D44+E44 -> 0.05 | G44: 0.1
A45: 030204.12 | B45: Rủi ro loại 1, 2 | C45: 0.05 | F45: =+C45+D45+E45 -> 0.05 | G45: 0.1
A46: 030204 | B46: Rủi ro loại 3 | C46: 0.05 | F46: =+C46+D46+E46 -> 0.05 | G46: 0.1
A47: 030204.4 | B47: Rủi ro loại 4 | C47: 0.05 | F47: =+C47+D47+E47 -> 0.05 | G47: 0.1
A48: 030205 | B48: Bảo Hiểm Tiền | C48: 0.05 | F48: =+C48+D48+E48 -> 0.05 | G48: 0.1
A49: 030207 | B49: Bảo Hiểm Trộm Cướp | C49: 0.05 | F49: =+C49+D49+E49 -> 0.05 | G49: 0.1
A50: 030208 | B50: Bảo Hiểm Đèn, Biển Quảng Cáo | C50: 0.05 | F50: =+C50+D50+E50 -> 0.05 | G50: 0.1
A51: 030212 | B51: Bảo Hiểm Toàn diện nhà tư nhân/ Nội thất | C51: 0.1 | F51: =+C51+D51+E51 -> 0.1 | G51: 0.1
B52: KỸ THUẬT | F52: =+C52+D52+E52 -> 0
A53: 040101 | B53: Bảo Hiểm Mọi Rủi Ro Xây Dựng | C53: 0.05 | F53: =+C53+D53+E53 -> 0.05 | G53: 0.1
A54: 040102 | B54: Bảo Hiểm Mọi Rủi Ro Lắp Đặt | C54: 0.05 | F54: =+C54+D54+E54 -> 0.05 | G54: 0.1
A55: 040103 | B55: Bảo Hiểm Đổ Vỡ Máy Móc, Nồi Hơi | C55: 0.05 | F55: =+C55+D55+E55 -> 0.05 | G55: 0.1
A56: 040104 | B56: Bảo Hiểm Máy Móc Thiết Bị Chủ Thầu | C56: 0.05 | F56: =+C56+D56+E56 -> 0.05 | G56: 0.1
A57: 040105 | B57: Bảo Hiểm Thiết Bị Điện Tử | C57: 0.05 | F57: =+C57+D57+E57 -> 0.05 | G57: 0.1
A58: 040106 | B58: Bảo Hiểm Công Trình Dân Dụng Hoàn Thành | C58: 0.05 | F58: =+C58+D58+E58 -> 0.05 | G58: 0.1
A59: 040107 | B59: Bảo Hiểm Hàng Hóa Trong Kho Lạnh | C59: 0.05 | F59: =+C59+D59+E59 -> 0.05 | G59: 0.1
A60: 040108 | B60: Bảo Hiểm Máy Móc Thiết Bị Cho Thuê | C60: 0.05 | F60: =+C60+D60+E60 -> 0.05 | G60: 0.1
A61: 040109 | B61: Bảo Hiểm Hợp Đồng Bảo Lãnh Xây Dựng Lắp Đặt | C61: 0.05 | F61: =+C61+D61+E61 -> 0.05 | G61: 0.1
B62: BẢO HIỂM TRÁCH NHIỆM | F62: =+C62+D62+E62 -> 0
A63: 050101 | B63: Bảo Hiểm Trách Nhiệm Công Cộng | C63: 0.05 | F63: =+C63+D63+E63 -> 0.05 | G63: 0.1
A64: 050102 | B64: Bảo Hiểm Trách Nhiệm Công Cộng Và Sản Phẩm Diện Rộng | C64: 0.05 | F64: =+C64+D64+E64 -> 0.05 | G64: 0.1
A65: 050103 | B65: Bảo Hiểm Trách Nhiệm đ/v Người Lao Động | C65: 0.05 | F65: =+C65+D65+E65 -> 0.05 | G65: 0
A66: 050104 | B66: Bảo Hiểm Trách Nhiệm Vận Chuyển Tổng Hợp | C66: 0.05 | F66: =+C66+D66+E66 -> 0.05 | G66: 0.1
A67: 050201 | B67: Bảo Hiểm Trách Nhiệm Sản Phẩm | C67: 0.05 | F67: =+C67+D67+E67 -> 0.05 | G67: 0.1
A68: 050301 | B68: Bảo Hiểm Trách Nhiệm Nghề Nghiệp Tư Vấn Thiết Kế | C68: 0.05 | F68: =+C68+D68+E68 -> 0.05 | G68: 0.1
A69: 050302 | B69: Bảo Hiểm Trách Nhiệm Nghề Nghiệp Bác Sĩ | C69: 0.05 | F69: =+C69+D69+E69 -> 0.05 | G69: 0.1
A70: 050303 | B70: Bảo Hiểm Trách Nhiệm Nghề Nghiệp Luật Sư | C70: 0.05 | F70: =+C70+D70+E70 -> 0.05 | G70: 0.1
A71: 050304 | B71: Bảo Hiểm Trách Nhiệm Pháp Lý đ/v Nghề Nghiệp Và Dân Sự | C71: 0.05 | F71: =+C71+D71+E71 -> 0.05 | G71: 0.1
A72: 050401 | B72: BH giải thưởng người chơi golf "hole-in-one" | C72: 0.05 | F72: =+C72+D72+E72 -> 0.05 | G72: 0.1
A73: 050501 | B73: BH trách nhiệm quản lý thương mại | F73: =+C73+D73+E73 -> 0 | G73: 0
B74: TAI NẠN CON NGƯỜI | F74: =+C74+D74+E74 -> 0
A75: 060101 | B75: Bảo Hiểm Tai Nạn Con Người | C75: 0.2 | F75: =+C75+D75+E75 -> 0.2 | G75: 0
A76: 060102 | B76: Bảo Hiểm Người Sử Dụng Điện | C76: 0.2 | F76: =+C76+D76+E76 -> 0.2 | G76: 0
A77: 060103 | B77: Bảo Hiểm Tai Nạn Thuyền Viên | C77: 0.2 | F77: =+C77+D77+E77 -> 0.2 | G77: 0
A78: 060104 | B78: Bảo Hiểm Tại Nạn Hành Khách | C78: 0.2 | F78: =+C78+D78+E78 -> 0.2 | G78: 0
A79: 060105 | B79: Bảo Hiểm Nằm Viện Và Phẫu Thuật | C79: 0.2 | F79: =+C79+D79+E79 -> 0.2 | G79: 0
A80: 060106 | B80: Bảo Hiểm Chăm Sóc Y Tế | C80: 0.2 | F80: =+C80+D80+E80 -> 0.2 | G80: 0
A81: 060107 | B81: Bảo Hiểm Tai Nạn Cá Nhân - Gia Đình | C81: 0.2 | F81: =+C81+D81+E81 -> 0.2 | G81: 0
A82: 060108 | B82: Bảo Hiểm Kết Hợp Con Người | C82: 0.2 | F82: =+C82+D82+E82 -> 0.2 | G82: 0
A83: 060109 | B83: Bảo Hiểm Tai nạn cá nhân nhóm | C83: 0.2 | F83: =+C83+D83+E83 -> 0.2 | G83: 0
A84: 060111 | B84: Bảo Hiểm Tai nạn Cologre | C84: 0.2 | F84: =+C84+D84+E84 -> 0.2 | G84: 0
A85: 060402 | B85: Bảo hiểm sức khỏe | C85: 0.2 | F85: =+C85+D85+E85 -> 0.2 | G85: 0
A86: 060501 | B86: BH dư nợ tín dụng | F86: =+C86+D86+E86 -> 0 | G86: 0
B87: BẢO HIỂM HỌC SINH | F87: =+C87+D87+E87 -> 0
A88: 060201 | B88: Bảo Hiểm Tai nạn Học Sinh | C88: 0.2 | F88: =+C88+D88+E88 -> 0.2 | G88: 0
A89: 060202 | B89: Bảo Hiểm Toàn Diện Học Sinh | C89: 0.2 | F89: =+C89+D89+E89 -> 0.2 | G89: 0
A90: 060203 | B90: Bảo Hiểm Chăm Sóc Học Sinh | C90: 0.2 | F90: =+C90+D90+E90 -> 0.2 | G90: 0
A91: 060204 | B91: Bảo Hiểm Chăm Sóc Sinh Viên | C91: 0.2 | F91: =+C91+D91+E91 -> 0.2 | G91: 0
B92: TAI NẠN DU LỊCH | F92: =+C92+D92+E92 -> 0
A93: 060301 | B93: Bảo Hiểm Người VN Du Lịch Nước Ngoài | C93: 0.2 | F93: =+C93+D93+E93 -> 0.2 | G93: 0
A94: 060302 | B94: Bảo Hiểm Người Nước Ngoài Du Lịch VN | C94: 0.2 | F94: =+C94+D94+E94 -> 0.2 | G94: 0
A95: 060303 | B95: Bảo Hiểm Du Lịch Trong Nước | C95: 0.2 | F95: =+C95+D95+E95 -> 0.2 | G95: 0
A96: 060305 | B96: Bảo Hiểm Du Lịch Toàn Cầu | C96: 0.2 | F96: =+C96+D96+E96 -> 0.2 | G96: 0
A97: 060401 | B97: Bảo Hiểm Chăm Sóc Phụ Nữ | C97: 0.2 | F97: =+C97+D97+E97 -> 0.2 | G97: 0
B98: BẢO HIỂM XE Ô TÔ | F98: =+C98+D98+E98 -> 0
A99: 070101 | B99: Bảo Hiểm TNDS Bắt Buộc Xe Ô Tô | C99: 0.05 | F99: =+C99+D99+E99 -> 0.05 | G99: 0.1
A100: 070102 | B100: Bảo Hiểm TNDS Tự Nguyện Xe Ô Tô | C100: 0.05 | F100: =+C100+D100+E100 -> 0.05 | G100: 0.1
A101: 070103 | B101: Bảo Hiểm TN Chủ Xe Đối Với Hàng Hoá Trên Xe Ô Tô | C101: 0.05 | F101: =+C101+D101+E101 -> 0.05 | G101: 0.1
A102: 070104 | B102: Bảo Hiểm Thiệt Hại Vật Chất Thân Xe Ô Tô | C102: 0.1 | F102: =+C102+D102+E102 -> 0.1 | G102: 0.1
...

Sheet cô oanh 14
M1: BM09/AAA-BKNP
A2: CÔNG TY CỔ PHẦN BẢO HIỂM AAA
A3: CHI NHÁNH AAA KHÁNH HÒA
A4: BẢNG KÊ NỘP PHÍ VÀ ĐỐI TRỪ QUYỀN LỢI
A5: ĐẠI LÝ BẢO HIỂM
A6: Kỳ thanh toán từ ngày: 01/12/2023 đến ngày 31/12/2023
A8: Tên đại lý: | B8: Đặng Thị Minh Thư | D8: Mã đại lý: 0300003136
A9: Số hợp đồng đại lý: | D9: Ký ngày: …../…../…..
A10: Số tài khoản: | D10: Ngân hàng:
A12: Stt | B12: Tên Khách hàng | C12: Số hợp đồng/GCN BH/Bảng kê thu phí | D12: Phí BH thực thu | E12: Thuế VAT | F12: Nghiệp vụ | G12: Hoa hồng đại lý | I12: Hỗ trợ đại lý | K12: Thuế TNCN | L12: Số tiền còn phải nộp | M12: Số chứng từ thu phí
G13: Tỷ lệ | H13: Số tiền | I13: Tỷ lệ | J13: Số tiền
A14: 1 | B14: ĐẶNG THỊ THUÝ TRINH | C14: 1101-0580-070200-23-000175 | D14: 120000 | E14: =VLOOKUP(F14,DMHH!$A$6:$G$108,7,0)*D14 -> 12000 | F14: 070201 | H14: =ROUND($D14*G14,0) -> 0 | I14: =IFERROR(VLOOKUP(F14,DMHH!$A:$F,4,0),0) -> 0 | J14: =ROUND($D14*I14,0) -> 0 | K14: =ROUND(H14*0.05,0) -> 0 | L14: =D14+E14-H14+K14 -> 132000
A15: 2 | B15: ĐẶNG THỊ THUÝ TRINH | C15: 1101-0580-070200-23-000175 | D15: 40000 | E15: =VLOOKUP(F15,DMHH!$A$6:$G$108,7,0)*D15 -> 0 | F15: 070203 | H15: =ROUND($D15*G15,0) -> 0 | I15: =IFERROR(VLOOKUP(F15,DMHH!$A:$F,4,0),0) -> 0 | J15: =ROUND($D15*I15,0) -> 0 | K15: =ROUND(H15*0.05,0) -> 0 | L15: =D15+E15-H15+K15 -> 40000 | N15: 141600
A16: 3 | B16: HOÀNG THỊ THANH HỒNG | C16: 1101-0580-070100-23-002813 | D16: 437000 | E16: =VLOOKUP(F16,DMHH!$A$6:$G$108,7,0)*D16 -> 43700 | F16: 070101 | G16: =IFERROR(VLOOKUP(F16,DMHH!$A:$F,3,0),0) -> 0.05 | H16: =ROUND($D16*G16,0) -> 21850 | I16: =IFERROR(VLOOKUP(F16,DMHH!$A:$F,4,0),0) -> 0 | J16: =ROUND($D16*I16,0) -> 0 | K16: =ROUND(H16*0.05,0) -> 1093 | L16: =D16+E16-H16+K16 -> 459943 | N16: 172000
A17: 4 | B17: HOÀNG THỊ THANH HỒNG | C17: 1101-0580-070100-23-002813 | D17: 75000 | E17: =VLOOKUP(F17,DMHH!$A$6:$G$108,7,0)*D17 -> 0 | F17: 070105 | G17: =IFERROR(VLOOKUP(F17,DMHH!$A:$F,3,0),0) -> 0.2 | H17: =ROUND($D17*G17,0) -> 15000 | I17: =IFERROR(VLOOKUP(F17,DMHH!$A:$F,4,0),0) -> 0 | J17: =ROUND($D17*I17,0) -> 0 | K17: =ROUND(H17*0.05,0) -> 750 | L17: =D17+E17-H17+K17 -> 60750 | N17: =N16-N15 -> 30400
A18: 5 | B18: LÊ TRƯỜNG NHÂN | C18: 1101-0580-070100-23-002814 | D18: 437000 | E18: =VLOOKUP(F18,DMHH!$A$6:$G$108,7,0)*D18 -> 43700 | F18: 070101 | G18: =IFERROR(VLOOKUP(F18,DMHH!$A:$F,3,0),0) -> 0.05 | H18: =ROUND($D18*G18,0) -> 21850 | I18: =IFERROR(VLOOKUP(F18,DMHH!$A:$F,4,0),0) -> 0 | J18: =ROUND($D18*I18,0) -> 0 | K18: =ROUND(H18*0.05,0) -> 1093 | L18: =D18+E18-H18+K18 -> 459943
A19: 6 | B19: LÊ TRƯỜNG NHÂN | C19: 1101-0580-070100-23-002814 | D19: 75000 | E19: =VLOOKUP(F19,DMHH!$A$6:$G$108,7,0)*D19 -> 0 | F19: 070105 | G19: =IFERROR(VLOOKUP(F19,DMHH!$A:$F,3,0),0) -> 0.2 | H19: =ROUND($D19*G19,0) -> 15000 | I19: =IFERROR(VLOOKUP(F19,DMHH!$A:$F,4,0),0) -> 0 | J19: =ROUND($D19*I19,0) -> 0 | K19: =ROUND(H19*0.05,0) -> 750 | L19: =D19+E19-H19+K19 -> 60750
A20: 7 | B20: TRẦN CÔNG MINH | C20: 1101-0580-070100-23-002812 | D20: 437000 | E20: =VLOOKUP(F20,DMHH!$A$6:$G$108,7,0)*D20 -> 43700 | F20: 070101 | G20: =IFERROR(VLOOKUP(F20,DMHH!$A:$F,3,0),0) -> 0.05 | H20: =ROUND($D20*G20,0) -> 21850 | I20: =IFERROR(VLOOKUP(F20,DMHH!$A:$F,4,0),0) -> 0 | J20: =ROUND($D20*I20,0) -> 0 | K20: =ROUND(H20*0.05,0) -> 1093 | L20: =D20+E20-H20+K20 -> 459943
A21: 8 | B21: TRẦN CÔNG MINH | C21: 1101-0580-070100-23-002812 | D21: 75000 | E21: =VLOOKUP(F21,DMHH!$A$6:$G$108,7,0)*D21 -> 0 | F21: 070105 | G21: =IFERROR(VLOOKUP(F21,DMHH!$A:$F,3,0),0) -> 0.2 | H21: =ROUND($D21*G21,0) -> 15000 | I21: =IFERROR(VLOOKUP(F21,DMHH!$A:$F,4,0),0) -> 0 | J21: =ROUND($D21*I21,0) -> 0 | K21: =ROUND(H21*0.05,0) -> 750 | L21: =D21+E21-H21+K21 -> 60750
A22: 9 | B22: NGUYỄN SANG | C22: 1101-0580-070100-23-002816 | D22: 437000 | E22: =VLOOKUP(F22,DMHH!$A$6:$G$108,7,0)*D22 -> 43700 | F22: 070101 | G22: =IFERROR(VLOOKUP(F22,DMHH!$A:$F,3,0),0) -> 0.05 | H22: =ROUND($D22*G22,0) -> 21850 | I22: =IFERROR(VLOOKUP(F22,DMHH!$A:$F,4,0),0) -> 0 | J22: =ROUND($D22*I22,0) -> 0 | K22: =ROUND(H22*0.05,0) -> 1093 | L22: =D22+E22-H22+K22 -> 459943
A23: 10 | B23: NGUYỄN SANG | C23: 1101-0580-070100-23-002816 | D23: 75000 | E23: =VLOOKUP(F23,DMHH!$A$6:$G$108,7,0)*D23 -> 0 | F23: 070105 | G23: =IFERROR(VLOOKUP(F23,DMHH!$A:$F,3,0),0) -> 0.2 | H23: =ROUND($D23*G23,0) -> 15000 | I23: =IFERROR(VLOOKUP(F23,DMHH!$A:$F,4,0),0) -> 0 | J23: =ROUND($D23*I23,0) -> 0 | K23: =ROUND(H23*0.05,0) -> 750 | L23: =D23+E23-H23+K23 -> 60750
A24: 11 | B24: VÕ ĐỨC THÀNH | C24: 1101-0580-070100-23-002815 | D24: 853000 | E24: =VLOOKUP(F24,DMHH!$A$6:$G$108,7,0)*D24 -> 85300 | F24: 070101 | G24: =IFERROR(VLOOKUP(F24,DMHH!$A:$F,3,0),0) -> 0.05 | H24: =ROUND($D24*G24,0) -> 42650 | I24: =IFERROR(VLOOKUP(F24,DMHH!$A:$F,4,0),0) -> 0 | J24: =ROUND($D24*I24,0) -> 0 | K24: =ROUND(H24*0.05,0) -> 2133 | L24: =D24+E24-H24+K24 -> 897783
A25: 12 | B25: VÕ ĐỨC THÀNH | C25: 1101-0580-070100-23-002815 | D25: 30000 | E25: =VLOOKUP(F25,DMHH!$A$6:$G$108,7,0)*D25 -> 0 | F25: 070105 | G25: =IFERROR(VLOOKUP(F25,DMHH!$A:$F,3,0),0) -> 0.2 | H25: =ROUND($D25*G25,0) -> 6000 | I25: =IFERROR(VLOOKUP(F25,DMHH!$A:$F,4,0),0) -> 0 | J25: =ROUND($D25*I25,0) -> 0 | K25: =ROUND(H25*0.05,0) -> 300 | L25: =D25+E25-H25+K25 -> 24300
A26: Cộng | G26: =SUM(H14:H25) -> 196050 | I26: =SUM(J14:J25) -> 0 | K26: =SUM(K14:K25) -> 9805 | L26: =SUM(L14:L25) -> 3176855
A27: Khấu trừ thuế thu nhập cá nhân | H27: =ROUND(G26*5%,0) -> 9803
A28: Số tiền hoa hồng và hõ trợ đại lý sau thuế | H28: =+G26+I26-H27 -> 186247
A30: Bằng chữ: | B30: Một trăm tám mươi sáu nghìn hai trăm bốn bảy đồng
A31: Chứng từ kèm: …................................................................................................................
A32: Đại lý | C32: KTV/Trưởng phòng | F32: Kế toán | J32: Giám đốc chi nhánh
F33: (Ký xác nhận đã thu phí và chưa chi hoa hồng & HTĐL)

Sheet DAI LY
N1: BM09/AAA-BKNP
A2: TỔNG CÔNG TY CỔ PHẦN BẢO HIỂM AAA
A3: BẢNG KÊ NỘP PHÍ VÀ ĐỐI TRỪ QUYỀN LỢI
A4: ĐẠI LÝ BẢO HIỂM
A5: Kỳ thanh toán từ ngày: 01/09/2025 đến ngày 30/09/2025
A6: Tên đại lý: BÙI NGỌC TIẾT TRINH | D6: Mã đại lý: 0300007457
A7: Số hợp đồng đại lý: 010/HDDL/2023 | D7: Ký ngày: 04/04/2023
A8: Số tài khoản: 1019947748 | D8: Ngân hàng: Vietcombank CN Khánh Hòa
A9: Stt | B9: Tên Khách hàng | C9: Số hợp đồng/GCN BH/Bảng kê thu phí | D9: Phí BH thực thu (Chưa VAT) | E9: Thuế VAT | F9: TỔNG PHÍ | G9: Nghiệp vụ | H9: Hoa hồng đại lý | J9: Hỗ trợ đại lý | L9: Thuế TNĐL (5%) | M9: Số tiền còn phải nộp | N9: Số chứng từ thu phí
H10: Tỷ lệ | I10: Số tiền | J10: Tỷ lệ | K10: Số tiền
A11: 1 | B11: NGUYỄN TẤN THỊNH | C11: 1101-0580-070100-23-001531/02 | D11: 7400000 | E11: =VLOOKUP(G11,DMHH!$A$6:$G$108,7,0)*D11 -> 740000 | F11: =D11+E11 -> 8140000 | G11: 070104 | H11: =IFERROR(VLOOKUP(G11,DMHH!$A:$F,3,0),0) -> 0.1 | I11: =ROUND($D11*H11,0) -> 740000 | J11: =IFERROR(VLOOKUP(G11,DMHH!$A:$F,4,0),0) -> 0 | K11: =ROUND($D11*J11,0) -> 0 | L11: =ROUND(I11*0.05,0) -> 37000 | M11: =D11+E11-I11+L11 -> 7437000
A12: 2 | B12: PHẠM BÁ NAM | C12: 1101-0580-070100-25-003469 | D12: 1080000 | E12: =VLOOKUP(G12,DMHH!$A$6:$G$108,7,0)*D12 -> 108000 | F12: =D12+E12 -> 1188000 | G12: 070101 | H12: =IFERROR(VLOOKUP(G12,DMHH!$A:$F,3,0),0) -> 0.05 | I12: =ROUND($D12*H12,0) -> 54000 | L12: =ROUND(I12*0.05,0) -> 2700 | M12: =D12+E12-I12+L12 -> 1136700
C13: 1101-0580-070100-25-003469 | D13: 70000 | E13: =VLOOKUP(G13,DMHH!$A$6:$G$108,7,0)*D13 -> 0 | F13: =D13+E13 -> 70000 | G13: 070105 | H13: =IFERROR(VLOOKUP(G13,DMHH!$A:$F,3,0),0) -> 0.2 | I13: =ROUND($D13*H13,0) -> 14000 | L13: =ROUND(I13*0.05,0) -> 700 | M13: =D13+E13-I13+L13 -> 56700
A14: 3 | B14: LINH QUANG TUẤN | C14: 1101-0580-070100-25-003529 | D14: 50000 | E14: =VLOOKUP(G14,DMHH!$A$6:$G$108,7,0)*D14 -> 0 | F14: =D14+E14 -> 50000 | G14: 070105 | H14: =IFERROR(VLOOKUP(G14,DMHH!$A:$F,3,0),0) -> 0.2 | I14: =ROUND($D14*H14,0) -> 10000 | L14: =ROUND(I14*0.05,0) -> 500 | M14: =D14+E14-I14+L14 -> 40500
C15: 1101-0580-070100-25-003529 | D15: 437000 | E15: =VLOOKUP(G15,DMHH!$A$6:$G$108,7,0)*D15 -> 43700 | F15: =D15+E15 -> 480700 | G15: 070101 | H15: =IFERROR(VLOOKUP(G15,DMHH!$A:$F,3,0),0) -> 0.05 | I15: =ROUND($D15*H15,0) -> 21850 | L15: =ROUND(I15*0.05,0) -> 1093 | M15: =D15+E15-I15+L15 -> 459943
A16: Cộng | D16: =SUM(D11:D15) -> 9037000 | E16: =SUM(E11:E15) -> 891700 | F16: =SUM(F11:F15) -> 9928700 | H16: =SUM(I11:I15) -> 839850 | J16: =SUM(K11:K15) -> 0 | L16: =SUM(L11:L15) -> 41993 | M16: =SUM(M11:M15) -> 9130843
A17: Khấu trừ thuế thu nhập cá nhân | I17: =ROUND(H16*5%,0) -> 41993
A18: Số tiền hoa hồng và hõ trợ đại lý sau thuế | I18: =+H16+J16-I17 -> 797857
L19: Nha Trang, ngày 19 tháng 09 năm 2025
A20: Bằng chữ: | B20: Bảy trăm chín mươi bảy nghìn tám trăm năm mươi bảy đồng.
A21: Chứng từ kèm: …................................................................................................................
A22: Đại lý | C22: KTV/Trưởng phòng | G22: Kế toán | K22: Giám đốc chi nhánh
G23: (Ký xác nhận đã thu phí và chưa chi hoa hồng & HTĐL)
